BEGIN:VCALENDAR
VERSION:2.0
PRODID:-//AACL - ECPv5.3.2//NONSGML v1.0//EN
CALSCALE:GREGORIAN
METHOD:PUBLISH
X-WR-CALNAME:AACL
X-ORIGINAL-URL:https://aacl.fr
X-WR-CALDESC:Évènements pour AACL
BEGIN:VTIMEZONE
TZID:Europe/Paris
BEGIN:DAYLIGHT
TZOFFSETFROM:+0100
TZOFFSETTO:+0200
TZNAME:CEST
DTSTART:20250330T010000
END:DAYLIGHT
BEGIN:STANDARD
TZOFFSETFROM:+0200
TZOFFSETTO:+0100
TZNAME:CET
DTSTART:20251026T010000
END:STANDARD
END:VTIMEZONE
BEGIN:VEVENT
DTSTART;TZID=Europe/Paris:20250604T090000
DTEND;TZID=Europe/Paris:20250604T170000
DTSTAMP:20260423T021025
CREATED:20240708T090228Z
LAST-MODIFIED:20250527T193713Z
UID:7328-1749027600-1749056400@aacl.fr
SUMMARY:AQUARELLE BOTANIQUE - PERFECTIONNEMENT NIVEAU 2 - Anne Solange TARDY
DESCRIPTION:Inscription obligatoire \nCette séance peut avoir lieu que s’il y a au minimum 10 personnes et au maximum 12 personnes. \nDE 9H A 18H – ANNULEE INSCRIPTIONS INSUFFISANTES \nTARIF : \nAdhérent : 85 euros \nNon adhérent : 95 euros \nPinceaux\, peinture\, papiers fournis \nMatériel à apporter : \n– Un pot d’eau (verre ordinaire\, bocal à confiture…) \n– Une assiette blanche qui servira de palette. N’importe quelle assiette ordinaire peut convenir (une assiette à déjeuner ou une assiette à dessert seront parfaites\, mais pas une sous tasse) \n– Une tasse pour prendre son café ou le thé
URL:https://aacl.fr/event/aquarelle-botanique-perfectionnement-niveau-2-anne-solange-tardy/
LOCATION:Pavillon Davioud – Jardin du Luxembourg\, 55bis rue d’Assas\, Paris\, 75006\, France
CATEGORIES:Aquarelle botanique
END:VEVENT
END:VCALENDAR