BEGIN:VCALENDAR
VERSION:2.0
PRODID:-//AACL - ECPv5.3.2//NONSGML v1.0//EN
CALSCALE:GREGORIAN
METHOD:PUBLISH
X-WR-CALNAME:AACL
X-ORIGINAL-URL:https://aacl.fr
X-WR-CALDESC:Évènements pour AACL
BEGIN:VTIMEZONE
TZID:Europe/Paris
BEGIN:DAYLIGHT
TZOFFSETFROM:+0100
TZOFFSETTO:+0200
TZNAME:CEST
DTSTART:20270328T010000
END:DAYLIGHT
BEGIN:STANDARD
TZOFFSETFROM:+0200
TZOFFSETTO:+0100
TZNAME:CET
DTSTART:20271031T010000
END:STANDARD
END:VTIMEZONE
BEGIN:VEVENT
DTSTART;TZID=Europe/Paris:20270222T143000
DTEND;TZID=Europe/Paris:20270222T163000
DTSTAMP:20260423T205316
CREATED:20260419T191048Z
LAST-MODIFIED:20260419T200940Z
UID:9178-1803306600-1803313800@aacl.fr
SUMMARY:Comprendre le travail des New Perennialist - Laurent Renault
DESCRIPTION:Utilisation des plantes vivaces au jardin – Exemple de conception de massif ornemental sans arrosage
URL:https://aacl.fr/event/comprendre-le-travail-des-new-perennialist-avec-laurent-renault/
LOCATION:Pavillon Davioud – Jardin du Luxembourg\, 55bis rue d’Assas\, Paris\, 75006\, France
CATEGORIES:Jardinage
END:VEVENT
END:VCALENDAR