BEGIN:VCALENDAR
VERSION:2.0
PRODID:-//AACL - ECPv5.3.2//NONSGML v1.0//EN
CALSCALE:GREGORIAN
METHOD:PUBLISH
X-WR-CALNAME:AACL
X-ORIGINAL-URL:https://aacl.fr
X-WR-CALDESC:Évènements pour AACL
BEGIN:VTIMEZONE
TZID:Europe/Paris
BEGIN:DAYLIGHT
TZOFFSETFROM:+0100
TZOFFSETTO:+0200
TZNAME:CEST
DTSTART:20250330T010000
END:DAYLIGHT
BEGIN:STANDARD
TZOFFSETFROM:+0200
TZOFFSETTO:+0100
TZNAME:CET
DTSTART:20251026T010000
END:STANDARD
END:VTIMEZONE
BEGIN:VEVENT
DTSTART;TZID=Europe/Paris:20250429T143000
DTEND;TZID=Europe/Paris:20250429T170000
DTSTAMP:20260423T060156
CREATED:20240708T085443Z
LAST-MODIFIED:20250108T094007Z
UID:7316-1745937000-1745946000@aacl.fr
SUMMARY:QUELLES ALTERNATIVES AU GAZON AVEC LE CHANGEMENT CLIMATIQUE : EXCES D'EAU OU SECHERESSE - Agnès THOMAS
DESCRIPTION:
URL:https://aacl.fr/event/quelles-alternatives-au-gazon-avec-le-changement-climatique-exces-deau-ou-secheresse-agnes-thomas/
LOCATION:Pavillon Davioud – Jardin du Luxembourg\, 55bis rue d’Assas\, Paris\, 75006\, France
CATEGORIES:Jardinage
END:VEVENT
END:VCALENDAR