BEGIN:VCALENDAR
VERSION:2.0
PRODID:-//AACL - ECPv5.3.2//NONSGML v1.0//EN
CALSCALE:GREGORIAN
METHOD:PUBLISH
X-WR-CALNAME:AACL
X-ORIGINAL-URL:https://aacl.fr
X-WR-CALDESC:Évènements pour AACL
BEGIN:VTIMEZONE
TZID:Europe/Paris
BEGIN:DAYLIGHT
TZOFFSETFROM:+0100
TZOFFSETTO:+0200
TZNAME:CEST
DTSTART:20270328T010000
END:DAYLIGHT
BEGIN:STANDARD
TZOFFSETFROM:+0200
TZOFFSETTO:+0100
TZNAME:CET
DTSTART:20271031T010000
END:STANDARD
END:VTIMEZONE
BEGIN:VEVENT
DTSTART;TZID=Europe/Paris:20270301T140000
DTEND;TZID=Europe/Paris:20270301T160000
DTSTAMP:20260421T105356
CREATED:20260419T194103Z
LAST-MODIFIED:20260419T194143Z
UID:9212-1803909600-1803916800@aacl.fr
SUMMARY:Taille des rosiers - séance pratique au Plessis Robinson - Gilles Quennevat
DESCRIPTION:RER B – Station Robinson (terminus du RER) \nRDV : 14H au 60-62 Avenue de Robinson (à environ 400 m du Terminal RER B) \nMunissez-vous de votre carte de jardinage.
URL:https://aacl.fr/event/taille-des-rosiers-seance-pratique-au-plessis-robinson-gilles-quennevat/
LOCATION:Plessis Robinson
CATEGORIES:Jardinage
END:VEVENT
END:VCALENDAR