BEGIN:VCALENDAR
VERSION:2.0
PRODID:-//AACL - ECPv5.3.2//NONSGML v1.0//EN
CALSCALE:GREGORIAN
METHOD:PUBLISH
X-WR-CALNAME:AACL
X-ORIGINAL-URL:https://aacl.fr
X-WR-CALDESC:Évènements pour AACL
BEGIN:VTIMEZONE
TZID:Europe/Paris
BEGIN:DAYLIGHT
TZOFFSETFROM:+0100
TZOFFSETTO:+0200
TZNAME:CEST
DTSTART:20230326T010000
END:DAYLIGHT
BEGIN:STANDARD
TZOFFSETFROM:+0200
TZOFFSETTO:+0100
TZNAME:CET
DTSTART:20231029T010000
END:STANDARD
END:VTIMEZONE
BEGIN:VEVENT
DTSTART;TZID=Europe/Paris:20231113T143000
DTEND;TZID=Europe/Paris:20231113T170000
DTSTAMP:20260420T140505
CREATED:20230801T111445Z
LAST-MODIFIED:20230801T111445Z
UID:6269-1699885800-1699894800@aacl.fr
SUMMARY:Les plantes sauvages comestibles : comment les reconnaître - Laurent Renaud
DESCRIPTION:
URL:https://aacl.fr/event/les-plantes-sauvages-comestibles-comment-les-reconnaitre-laurent-renaud/
LOCATION:Ecole du Breuil – Route de la ferme – 75012 PARIS\, Route de la Ferme\, Paris 12ème\, 75006\, France
END:VEVENT
END:VCALENDAR