BEGIN:VCALENDAR
VERSION:2.0
PRODID:-//AACL - ECPv5.3.2//NONSGML v1.0//EN
CALSCALE:GREGORIAN
METHOD:PUBLISH
X-WR-CALNAME:AACL
X-ORIGINAL-URL:https://aacl.fr
X-WR-CALDESC:Évènements pour AACL
BEGIN:VTIMEZONE
TZID:Europe/Paris
BEGIN:DAYLIGHT
TZOFFSETFROM:+0100
TZOFFSETTO:+0200
TZNAME:CEST
DTSTART:20250330T010000
END:DAYLIGHT
BEGIN:STANDARD
TZOFFSETFROM:+0200
TZOFFSETTO:+0100
TZNAME:CET
DTSTART:20251026T010000
END:STANDARD
END:VTIMEZONE
BEGIN:VEVENT
DTSTART;TZID=Europe/Paris:20250331T143000
DTEND;TZID=Europe/Paris:20250331T170000
DTSTAMP:20260426T002028
CREATED:20240711T062337Z
LAST-MODIFIED:20250108T094849Z
UID:7410-1743431400-1743440400@aacl.fr
SUMMARY:COMMENT RAJEUNIR LES ARBRES A FLEURS - Franck Nosree
DESCRIPTION:RDV : Pavillon Davioud à 14H 30 \nREPORT DU COURS DU 11 décembre 2024
URL:https://aacl.fr/event/comment-rajeunir-les-arbres-a-fleurs-franck-nosree-seance-pratique/
LOCATION:Pavillon Davioud – Jardin du Luxembourg\, 55bis rue d’Assas\, Paris\, 75006\, France
CATEGORIES:Jardinage
END:VEVENT
END:VCALENDAR