BEGIN:VCALENDAR
VERSION:2.0
PRODID:-//AACL - ECPv5.3.2//NONSGML v1.0//EN
CALSCALE:GREGORIAN
METHOD:PUBLISH
X-WR-CALNAME:AACL
X-ORIGINAL-URL:https://aacl.fr
X-WR-CALDESC:Évènements pour AACL
BEGIN:VTIMEZONE
TZID:Europe/Paris
BEGIN:DAYLIGHT
TZOFFSETFROM:+0100
TZOFFSETTO:+0200
TZNAME:CEST
DTSTART:20200329T010000
END:DAYLIGHT
BEGIN:STANDARD
TZOFFSETFROM:+0200
TZOFFSETTO:+0100
TZNAME:CET
DTSTART:20201025T010000
END:STANDARD
END:VTIMEZONE
BEGIN:VEVENT
DTSTART;TZID=Europe/Paris:20200205T140000
DTEND;TZID=Europe/Paris:20200205T170000
DTSTAMP:20260420T025815
CREATED:20190627T123754Z
LAST-MODIFIED:20200201T084439Z
UID:3730-1580911200-1580922000@aacl.fr
SUMMARY:Démonstration de taille des arbustes - Franck Nosree
DESCRIPTION:ECOLE DU BREUIL \nRDV en face de l’Arborétum route de la Pyramide \nsoit RER A direction Boissy St Léger – arrêt Joinville le pont \nsortie avenue des Canadiens + 10mn à pied ou  bus 77 direction Joinville le Pont – \ndepuis la gare de Lyon – arrêt Ecole du Breuil \n 
URL:https://aacl.fr/event/demonstration-de-taille-des-arbustes-franck-nosree/
LOCATION:Ecole du Breuil de Paris\, Route de la Pyramide face Arborétum\, PARIS 12e\, 75012\, France
CATEGORIES:Jardinage
END:VEVENT
END:VCALENDAR