BEGIN:VCALENDAR
VERSION:2.0
PRODID:-//AACL - ECPv5.3.2//NONSGML v1.0//EN
CALSCALE:GREGORIAN
METHOD:PUBLISH
X-WR-CALNAME:AACL
X-ORIGINAL-URL:https://aacl.fr
X-WR-CALDESC:Évènements pour AACL
BEGIN:VTIMEZONE
TZID:Europe/Paris
BEGIN:DAYLIGHT
TZOFFSETFROM:+0100
TZOFFSETTO:+0200
TZNAME:CEST
DTSTART:20200329T010000
END:DAYLIGHT
BEGIN:STANDARD
TZOFFSETFROM:+0200
TZOFFSETTO:+0100
TZNAME:CET
DTSTART:20201025T010000
END:STANDARD
END:VTIMEZONE
BEGIN:VEVENT
DTSTART;TZID=Europe/Paris:20200309T143000
DTEND;TZID=Europe/Paris:20200309T170000
DTSTAMP:20260422T165122
CREATED:20191129T141956Z
LAST-MODIFIED:20191129T142204Z
UID:4089-1583764200-1583773200@aacl.fr
SUMMARY:Floraison des arbustes sur l'année - Roger Delevaque
DESCRIPTION:incorporant le thème de la culture de l’Hortensia
URL:https://aacl.fr/event/floraison-des-arbustes-sur-lannee/
LOCATION:Ecole du Breuil – Route de la ferme – 75012 PARIS\, Route de la Ferme\, Paris 12ème\, 75006\, France
CATEGORIES:Jardinage
END:VEVENT
END:VCALENDAR