BEGIN:VCALENDAR
VERSION:2.0
PRODID:-//AACL - ECPv5.3.2//NONSGML v1.0//EN
CALSCALE:GREGORIAN
METHOD:PUBLISH
X-WR-CALNAME:AACL
X-ORIGINAL-URL:https://aacl.fr
X-WR-CALDESC:Évènements pour AACL
BEGIN:VTIMEZONE
TZID:Europe/Paris
BEGIN:DAYLIGHT
TZOFFSETFROM:+0100
TZOFFSETTO:+0200
TZNAME:CEST
DTSTART:20190331T010000
END:DAYLIGHT
BEGIN:STANDARD
TZOFFSETFROM:+0200
TZOFFSETTO:+0100
TZNAME:CET
DTSTART:20191027T010000
END:STANDARD
END:VTIMEZONE
BEGIN:VEVENT
DTSTART;TZID=Europe/Paris:20191105T140000
DTEND;TZID=Europe/Paris:20191105T170000
DTSTAMP:20260424T225539
CREATED:20190621T133910Z
LAST-MODIFIED:20190624T144559Z
UID:3585-1572962400-1572973200@aacl.fr
SUMMARY:Visite de l'arboretum de la Vallée aux Loups
DESCRIPTION:  \nVisite guidée avec Madeleine Lamouroux. \nRV 14h à l’entrée principale . \nRER B station Robinson . \nBus 194 \, arrêt  Marc Sagnier .
URL:https://aacl.fr/event/visite-de-larboretum-de-la-vallee-aux-loups/
LOCATION:Arboretum de la Vallée aux Loups .\, 102 rue Chateaubriand\, Chatenay-Malabry\, 92290\, France
CATEGORIES:Visites,Voyages & Visites
ATTACH;FMTTYPE=image/jpeg:https://aacl.fr/wp-content/uploads/2019/06/valleeloup.jpg
END:VEVENT
END:VCALENDAR