BEGIN:VCALENDAR
VERSION:2.0
PRODID:-//AACL - ECPv5.3.2//NONSGML v1.0//EN
CALSCALE:GREGORIAN
METHOD:PUBLISH
X-WR-CALNAME:AACL
X-ORIGINAL-URL:https://aacl.fr
X-WR-CALDESC:Évènements pour AACL
BEGIN:VTIMEZONE
TZID:Europe/Paris
BEGIN:DAYLIGHT
TZOFFSETFROM:+0100
TZOFFSETTO:+0200
TZNAME:CEST
DTSTART:20200329T010000
END:DAYLIGHT
BEGIN:STANDARD
TZOFFSETFROM:+0200
TZOFFSETTO:+0100
TZNAME:CET
DTSTART:20201025T010000
END:STANDARD
END:VTIMEZONE
BEGIN:VEVENT
DTSTART;TZID=Europe/Paris:20200506T140000
DTEND;TZID=Europe/Paris:20200506T170000
DTSTAMP:20260424T071001
CREATED:20190627T141146Z
LAST-MODIFIED:20200226T122742Z
UID:3799-1588773600-1588784400@aacl.fr
SUMMARY:Les Missions étrangères de Paris
DESCRIPTION:Le jardin des Missions étrangères\, situé entre les rues du Bac et de Babylone\, est un jardin exceptionnel\, d’un hectare dessiné par un disciple de Le Nôtre. C’est un havre de verdure en plein Paris.
URL:https://aacl.fr/event/jardins-des-batignolles-et-de-martin-l-king-jacky-libaud/
LOCATION:Missions étrangères de Paris\, 128 rue du Bac\, Paris\, 75007\, France
CATEGORIES:Visites
ATTACH;FMTTYPE=image/jpeg:https://aacl.fr/wp-content/uploads/2019/10/missions-étrangères_lite.jpg
END:VEVENT
END:VCALENDAR